BEGIN:VCALENDAR
PRODID:-//eluceo/ical//2.0/EN
VERSION:2.0
CALSCALE:GREGORIAN
BEGIN:VEVENT
UID:3d0e0fc0e863d591c81a4918bb59dc65
DTSTAMP:20260423T090923Z
SUMMARY:GET-TOGETHER der Fricktaler Service-Clubs
DESCRIPTION:Conférencier(s): Der IW Club Basel-Riehen organisiert den Anla
 ss 2025
URL:https://innerwheelbaselriehen.ch/fr/agenda/show/7151
DTSTART;TZID=Europe/Zurich:20250122T181500
DTEND;TZID=Europe/Zurich:20250122T220000
LOCATION:MBF Stein
CATEGORIES:Inner Wheel
END:VEVENT
BEGIN:VTIMEZONE
TZID:Europe/Zurich
BEGIN:STANDARD
DTSTART:20250122T181500
TZNAME:CET
TZOFFSETTO:+0100
TZOFFSETFROM:+0100
END:STANDARD
END:VTIMEZONE
END:VCALENDAR
