BEGIN:VCALENDAR
PRODID:-//eluceo/ical//2.0/EN
VERSION:2.0
CALSCALE:GREGORIAN
BEGIN:VEVENT
UID:8202b2ff29482a6cdbf636bcea91e59c
DTSTAMP:20260422T090120Z
SUMMARY:Charitiy Sommernacht zu Gunsten von Aiducation
DESCRIPTION:AIDUCATION ist ein Schweizer Hilfswerk und vergibt Gymnasialsti
 pendien an talentierte und motivierte junge Menschen in Entwicklungslände
 rn (Kenia und Philippinen)\, damit sie ihr Land weiterbringen können.\nSi
 to web: http://www.aiducation.org/de
URL:https://innerwheelbaselriehen.ch/it/agenda/show/1018
DTSTART;TZID=Europe/Zurich:20160604T180000
DTEND;TZID=Europe/Zurich:20160604T233000
LOCATION:Stadthalle Laufenburg
CATEGORIES:Inner Wheel
END:VEVENT
BEGIN:VTIMEZONE
TZID:Europe/Zurich
BEGIN:DAYLIGHT
DTSTART:20160604T180000
TZNAME:CEST
TZOFFSETTO:+0200
TZOFFSETFROM:+0200
END:DAYLIGHT
END:VTIMEZONE
END:VCALENDAR
