BEGIN:VCALENDAR
PRODID:-//eluceo/ical//2.0/EN
VERSION:2.0
CALSCALE:GREGORIAN
BEGIN:VEVENT
UID:051d3f71610609012daef1bc20b7ee13
DTSTAMP:20260422T103114Z
SUMMARY:FRAUENLAUF BERN
DESCRIPTION:\nSito web: http://www.frauenlauf.ch\nRelatore/i: Save-the-date
 -Frauenlauf-2020\n\nweitere Infos folgen
URL:https://innerwheelbaselriehen.ch/it/agenda/show/3580
DTSTART;TZID=Europe/Zurich:20200823T070000
DTEND;TZID=Europe/Zurich:20200823T160000
LOCATION:Bern
CATEGORIES:Inner Wheel
END:VEVENT
BEGIN:VTIMEZONE
TZID:Europe/Zurich
BEGIN:DAYLIGHT
DTSTART:20200823T070000
TZNAME:CEST
TZOFFSETTO:+0200
TZOFFSETFROM:+0200
END:DAYLIGHT
END:VTIMEZONE
END:VCALENDAR
