BEGIN:VCALENDAR
PRODID:-//eluceo/ical//2.0/EN
VERSION:2.0
CALSCALE:GREGORIAN
BEGIN:VEVENT
UID:e066351efeca5e58e78ed2315f8c712b
DTSTAMP:20260422T085733Z
SUMMARY:Monatsbrief
DESCRIPTION:
URL:https://innerwheelbaselriehen.ch/it/agenda/show/692
DTSTART;TZID=Europe/Zurich:20151015T000000
DTEND;TZID=Europe/Zurich:20151015T000000
LOCATION:Hotel Euler
CATEGORIES:Inner Wheel
END:VEVENT
BEGIN:VTIMEZONE
TZID:Europe/Zurich
BEGIN:DAYLIGHT
DTSTART:20151015T000000
TZNAME:CEST
TZOFFSETTO:+0200
TZOFFSETFROM:+0200
END:DAYLIGHT
END:VTIMEZONE
END:VCALENDAR
