BEGIN:VCALENDAR
PRODID:-//eluceo/ical//2.0/EN
VERSION:2.0
CALSCALE:GREGORIAN
BEGIN:VEVENT
UID:4febce6196d3dcb1204d518ff46071ff
DTSTAMP:20260420T172127Z
SUMMARY:Lunch
DESCRIPTION:
URL:https://innerwheelbaselriehen.ch/it/agenda/show/696
DTSTART;TZID=Europe/Zurich:20151130T120000
DTEND;TZID=Europe/Zurich:20151130T120000
LOCATION:Hotel Eden\, Rheinfelden
CATEGORIES:Inner Wheel
END:VEVENT
BEGIN:VTIMEZONE
TZID:Europe/Zurich
BEGIN:STANDARD
DTSTART:20151130T120000
TZNAME:CET
TZOFFSETTO:+0100
TZOFFSETFROM:+0100
END:STANDARD
END:VTIMEZONE
END:VCALENDAR
