BEGIN:VCALENDAR
PRODID:-//eluceo/ical//2.0/EN
VERSION:2.0
CALSCALE:GREGORIAN
BEGIN:VEVENT
UID:7176648eb271e0e4282c92f0160fb329
DTSTAMP:20260422T130313Z
SUMMARY:Amtsübergabe\, Aufnahme von Neumitgliedern
DESCRIPTION:Relatore/i: Einladung folgt
URL:https://innerwheelbaselriehen.ch/it/agenda/show/779
DTSTART;TZID=Europe/Zurich:20160613T180000
DTEND;TZID=Europe/Zurich:20160613T180000
LOCATION:Orangerie\, Sarasin-Park Riehen
CATEGORIES:Inner Wheel
END:VEVENT
BEGIN:VTIMEZONE
TZID:Europe/Zurich
BEGIN:DAYLIGHT
DTSTART:20160613T180000
TZNAME:CEST
TZOFFSETTO:+0200
TZOFFSETFROM:+0200
END:DAYLIGHT
END:VTIMEZONE
END:VCALENDAR
