BEGIN:VCALENDAR
PRODID:-//eluceo/ical//2.0/EN
VERSION:2.0
CALSCALE:GREGORIAN
BEGIN:VEVENT
UID:e3f9e9b07424a06c35fdf7940cf4bbde
DTSTAMP:20260422T085904Z
SUMMARY:Ballet-Aufführung "Tewje" mit Blick hinter die Kulissen
DESCRIPTION:Relatore/i: Blick hinter die Kulissen und Einführung zum Werk 
 mit Richard Wherlock\, Snack
URL:https://innerwheelbaselriehen.ch/it/agenda/show/783
DTSTART;TZID=Europe/Zurich:20160111T000000
DTEND;TZID=Europe/Zurich:20160111T000000
LOCATION:Theater Basel\, Bühneneingang\, Elisabethenstrasse 16
CATEGORIES:Inner Wheel
END:VEVENT
BEGIN:VTIMEZONE
TZID:Europe/Zurich
BEGIN:STANDARD
DTSTART:20160111T000000
TZNAME:CET
TZOFFSETTO:+0100
TZOFFSETFROM:+0100
END:STANDARD
END:VTIMEZONE
END:VCALENDAR
